BEGIN:VCALENDAR
VERSION:2.0
PRODID:-//eventon.com NONSGML v1.0//EN
CALSCALE:GREGORIAN
METHOD:PUBLISH
BEGIN:VEVENT
UID:69ecc86334609
DTSTAMP:20260425T135755Z
DTSTART:20260520T190000Z
DTEND:20260521T223000Z
LOCATION:Khowutzun Heritage Centre 200 Cowichan Way\,  Duncan\,  BC V9L 6V2
SUMMARY:IWE Duncan Workshop
DESCRIPTION:IWE Duncan Workshop\nhttps://www.nedc.info/events/iwe-duncan-wo
 rkshop/
URL:https://www.nedc.info/events/iwe-duncan-workshop/
END:VEVENT
END:VCALENDAR