BEGIN:VCALENDAR
VERSION:2.0
PRODID:-//eventon.com NONSGML v1.0//EN
CALSCALE:GREGORIAN
METHOD:PUBLISH
BEGIN:VEVENT
UID:69e73d66454d7
DTSTAMP:20260421T090334Z
DTSTART:20250506
DTEND:20250507
LOCATION:Coast Discovery Inn 975 Shoppers Row
SUMMARY:IWE Campbell River Workshop
DESCRIPTION:Calling all Indigenous Women Entrepreneurs in Campbell River!We
 ’re excited to invite you to a powerful 2-day workshop designed to suppor
 t and inspire you on your business journey. Whether you’re just starting 
 out or ready to take your venture to the next level\,  this event is for yo
 u. This workshop series[..]\nhttps://www.nedc.info/events/iwe-campbell-rive
 r-workshop/
URL:https://www.nedc.info/events/iwe-campbell-river-workshop/
END:VEVENT
END:VCALENDAR